BEGIN:VCALENDAR
VERSION:2.0
PRODID:-//Eventin//Event Calendar//EN
CALSCALE:GREGORIAN
METHOD:PUBLISH
BEGIN:VEVENT
UID:3dede0a702b3717dd4964426fab3af76@thekindercasa.com
SUMMARY:Making Spaghetti 🍝 from scratch
DESCRIPTION:We will learn where the flour come from\, how it works with dif
 ferent products\, learn about the ingredients of different sauces. You will
  eat your own delicious creation
LOCATION:Arnaz & Gregory way\, Beverly Hills\, 90211
DTSTAMP:20260422T112350Z
DTSTART:20260804T233000Z
DTEND:20260805T023000Z
END:VEVENT
END:VCALENDAR
