BEGIN:VCALENDAR
VERSION:2.0
PRODID:-//Eventin//Event Calendar//EN
CALSCALE:GREGORIAN
METHOD:PUBLISH
BEGIN:VEVENT
UID:3a6cc52963d73b89d056294a8e750ae3@thekindercasa.com
SUMMARY:Making Spaghetti 🍝 from scratch
DESCRIPTION:We will learn where the flour come from\, how it works with dif
 ferent products\, learn about the ingredients of different sauces. You will
  eat your own delicious creation
LOCATION:Arnaz & Gregory way\, Beverly Hills\, 90211
DTSTAMP:20260422T112239Z
DTSTART:20260721T233000Z
DTEND:20260722T023000Z
END:VEVENT
END:VCALENDAR
