BEGIN:VCALENDAR
VERSION:2.0
PRODID:-//Eventin//Event Calendar//EN
CALSCALE:GREGORIAN
METHOD:PUBLISH
BEGIN:VEVENT
UID:5ab4664b45c8cc28d6d5c3cce91c3c50@thekindercasa.com
SUMMARY:Making Spaghetti 🍝 from scratch
DESCRIPTION:We will learn where the flour come from\, how it works with dif
 ferent products\, learn about the ingredients of different sauces. You will
  eat your own delicious creation
LOCATION:Arnaz & Gregory way\, Beverly Hills\, 90211
DTSTAMP:20260422T112242Z
DTSTART:20260602T233000Z
DTEND:20260603T023000Z
END:VEVENT
END:VCALENDAR
