BEGIN:VCALENDAR
VERSION:2.0
PRODID:-//Eventin//Event Calendar//EN
CALSCALE:GREGORIAN
METHOD:PUBLISH
BEGIN:VEVENT
UID:e704fd4cc86c89e21b96fbd83f4f1190@thekindercasa.com
SUMMARY:Title
DESCRIPTION:sdfasdagsagsdag
LOCATION:Location
DTSTAMP:20260422T113840Z
DTSTART:20260731T170000Z
DTEND:20260801T000000Z
END:VEVENT
END:VCALENDAR
