BEGIN:VCALENDAR
VERSION:2.0
PRODID:-//Eventin//Event Calendar//EN
CALSCALE:GREGORIAN
METHOD:PUBLISH
BEGIN:VEVENT
UID:b4b53a479d46b91805ae5e87bd0d9e41@thekindercasa.com
SUMMARY:Title
DESCRIPTION:sdfasdagsagsdag
LOCATION:Location
DTSTAMP:20260422T113615Z
DTSTART:20260724T170000Z
DTEND:20260725T000000Z
END:VEVENT
END:VCALENDAR
