BEGIN:VCALENDAR
VERSION:2.0
PRODID:-//Eventin//Event Calendar//EN
CALSCALE:GREGORIAN
METHOD:PUBLISH
BEGIN:VEVENT
UID:0245e6987d086033269adf6ab3c30b51@thekindercasa.com
SUMMARY:Title
DESCRIPTION:sdfasdagsagsdag
LOCATION:Location
DTSTAMP:20260422T113625Z
DTSTART:20260717T170000Z
DTEND:20260718T000000Z
END:VEVENT
END:VCALENDAR
