BEGIN:VCALENDAR
VERSION:2.0
PRODID:-//Eventin//Event Calendar//EN
CALSCALE:GREGORIAN
METHOD:PUBLISH
BEGIN:VEVENT
UID:70d72c116f984ae375890ed2b6ac43c0@thekindercasa.com
SUMMARY:Title
DESCRIPTION:sdfasdagsagsdag
LOCATION:Location
DTSTAMP:20260422T113615Z
DTSTART:20260710T170000Z
DTEND:20260711T000000Z
END:VEVENT
END:VCALENDAR
