BEGIN:VCALENDAR
VERSION:2.0
PRODID:-//Eventin//Event Calendar//EN
CALSCALE:GREGORIAN
METHOD:PUBLISH
BEGIN:VEVENT
UID:b63162124885d886618b554ed20e6849@thekindercasa.com
SUMMARY:Title
DESCRIPTION:sdfasdagsagsdag
LOCATION:Location
DTSTAMP:20260422T113722Z
DTSTART:20260703T170000Z
DTEND:20260704T000000Z
END:VEVENT
END:VCALENDAR
