BEGIN:VCALENDAR
VERSION:2.0
PRODID:-//Eventin//Event Calendar//EN
CALSCALE:GREGORIAN
METHOD:PUBLISH
BEGIN:VEVENT
UID:88a8777a914923e1a890dcd4994c2854@thekindercasa.com
SUMMARY:Title
DESCRIPTION:sdfasdagsagsdag
LOCATION:Location
DTSTAMP:20260422T113716Z
DTSTART:20260626T170000Z
DTEND:20260627T000000Z
END:VEVENT
END:VCALENDAR
