BEGIN:VCALENDAR
VERSION:2.0
PRODID:-//Eventin//Event Calendar//EN
CALSCALE:GREGORIAN
METHOD:PUBLISH
BEGIN:VEVENT
UID:d651e0311316bcb2d2004b095df0773c@thekindercasa.com
SUMMARY:Title
DESCRIPTION:sdfasdagsagsdag
LOCATION:Location
DTSTAMP:20260422T113834Z
DTSTART:20260619T170000Z
DTEND:20260620T000000Z
END:VEVENT
END:VCALENDAR
