BEGIN:VCALENDAR
VERSION:2.0
PRODID:-//Eventin//Event Calendar//EN
CALSCALE:GREGORIAN
METHOD:PUBLISH
BEGIN:VEVENT
UID:113a4f3b585cf4a3ab4b130579c5cf62@thekindercasa.com
SUMMARY:Title
DESCRIPTION:sdfasdagsagsdag
LOCATION:Location
DTSTAMP:20260422T113504Z
DTSTART:20260612T170000Z
DTEND:20260613T000000Z
END:VEVENT
END:VCALENDAR
