BEGIN:VCALENDAR
VERSION:2.0
PRODID:-//Eventin//Event Calendar//EN
CALSCALE:GREGORIAN
METHOD:PUBLISH
BEGIN:VEVENT
UID:f35da5243cd8612000fc613ef67b81ff@thekindercasa.com
SUMMARY:Title
DESCRIPTION:sdfasdagsagsdag
LOCATION:Location
DTSTAMP:20260422T113534Z
DTSTART:20260605T170000Z
DTEND:20260606T000000Z
END:VEVENT
END:VCALENDAR
