BEGIN:VCALENDAR
VERSION:2.0
PRODID:-//Eventin//Event Calendar//EN
CALSCALE:GREGORIAN
METHOD:PUBLISH
BEGIN:VEVENT
UID:5a893a13266d22c66f503d40bb1ef9c2@thekindercasa.com
SUMMARY:Title
DESCRIPTION:sdfasdagsagsdag
LOCATION:Location
DTSTAMP:20260422T113732Z
DTSTART:20260529T170000Z
DTEND:20260530T000000Z
END:VEVENT
END:VCALENDAR
