BEGIN:VCALENDAR
VERSION:2.0
PRODID:-//Eventin//Event Calendar//EN
CALSCALE:GREGORIAN
METHOD:PUBLISH
BEGIN:VEVENT
UID:91d0669a7f9d971fff07bfa397beb717@thekindercasa.com
SUMMARY:Title
DESCRIPTION:sdfasdagsagsdag
LOCATION:Location
DTSTAMP:20260422T113504Z
DTSTART:20260522T170000Z
DTEND:20260523T000000Z
END:VEVENT
END:VCALENDAR
