BEGIN:VCALENDAR
VERSION:2.0
PRODID:-//Eventin//Event Calendar//EN
CALSCALE:GREGORIAN
METHOD:PUBLISH
BEGIN:VEVENT
UID:88e2707fa8dc74d86d9c53d3d97da966@thekindercasa.com
SUMMARY:Title
DESCRIPTION:sdfasdagsagsdag
LOCATION:Location
DTSTAMP:20260422T113716Z
DTSTART:20260515T170000Z
DTEND:20260516T000000Z
END:VEVENT
END:VCALENDAR
