BEGIN:VCALENDAR
VERSION:2.0
PRODID:-//Eventin//Event Calendar//EN
CALSCALE:GREGORIAN
METHOD:PUBLISH
BEGIN:VEVENT
UID:e1fa7d385d6ab233cfb523b374decde4@thekindercasa.com
SUMMARY:Title
DESCRIPTION:sdfasdagsagsdag
LOCATION:Location
DTSTAMP:20260422T113625Z
DTSTART:20260508T170000Z
DTEND:20260509T000000Z
END:VEVENT
END:VCALENDAR
