BEGIN:VCALENDAR
VERSION:2.0
PRODID:-//Eventin//Event Calendar//EN
CALSCALE:GREGORIAN
METHOD:PUBLISH
BEGIN:VEVENT
UID:d2657e7833a3830ef4e893015b15c52e@thekindercasa.com
SUMMARY:Title
DESCRIPTION:sdfasdagsagsdag
LOCATION:Location
DTSTAMP:20260422T113732Z
DTSTART:20260501T170000Z
DTEND:20260502T000000Z
END:VEVENT
END:VCALENDAR
