BEGIN:VCALENDAR
VERSION:2.0
PRODID:-//Eventin//Event Calendar//EN
CALSCALE:GREGORIAN
METHOD:PUBLISH
BEGIN:VEVENT
UID:35ad159d8c6eff2962149efac83d26db@thekindercasa.com
SUMMARY:Title
DESCRIPTION:sdfasdagsagsdag
LOCATION:Location
DTSTAMP:20260422T113840Z
DTSTART:20260424T170000Z
DTEND:20260425T000000Z
END:VEVENT
END:VCALENDAR
