BEGIN:VCALENDAR
VERSION:2.0
PRODID:-//Eventin//Event Calendar//EN
CALSCALE:GREGORIAN
METHOD:PUBLISH
BEGIN:VEVENT
UID:773c44b777456bd48fc450ae2395d151@thekindercasa.com
SUMMARY:New Event
DESCRIPTION:sdfgasdgasadgasdg
LOCATION:fggfjgfhg
DTSTAMP:20260422T112822Z
DTSTART:20260623T192500Z
DTEND:20260624T120000Z
END:VEVENT
END:VCALENDAR
