BEGIN:VCALENDAR
VERSION:2.0
PRODID:-//Eventin//Event Calendar//EN
CALSCALE:GREGORIAN
METHOD:PUBLISH
BEGIN:VEVENT
UID:07863e63df42201d20a97e5235cd04cb@thekindercasa.com
SUMMARY:New Event
DESCRIPTION:sdfgasdgasadgasdg
LOCATION:fggfjgfhg
DTSTAMP:20260422T112725Z
DTSTART:20260616T192500Z
DTEND:20260617T120000Z
END:VEVENT
END:VCALENDAR
