BEGIN:VCALENDAR
VERSION:2.0
PRODID:-//Eventin//Event Calendar//EN
CALSCALE:GREGORIAN
METHOD:PUBLISH
BEGIN:VEVENT
UID:edd475bad3a80c0375fd4571fe9ec9cb@thekindercasa.com
SUMMARY:New Event
DESCRIPTION:sdfgasdgasadgasdg
LOCATION:fggfjgfhg
DTSTAMP:20260422T112827Z
DTSTART:20260609T192500Z
DTEND:20260610T120000Z
END:VEVENT
END:VCALENDAR
