BEGIN:VCALENDAR
VERSION:2.0
PRODID:-//Eventin//Event Calendar//EN
CALSCALE:GREGORIAN
METHOD:PUBLISH
BEGIN:VEVENT
UID:cebf1560f4f9c400bfcccee03c5edb34@thekindercasa.com
SUMMARY:New Event
DESCRIPTION:sdfgasdgasadgasdg
LOCATION:fggfjgfhg
DTSTAMP:20260422T112938Z
DTSTART:20260602T192500Z
DTEND:20260603T120000Z
END:VEVENT
END:VCALENDAR
