BEGIN:VCALENDAR
VERSION:2.0
PRODID:-//Eventin//Event Calendar//EN
CALSCALE:GREGORIAN
METHOD:PUBLISH
BEGIN:VEVENT
UID:73ec7c628af608bfd50814d0fd7ad1c0@thekindercasa.com
SUMMARY:New Event
DESCRIPTION:sdfgasdgasadgasdg
LOCATION:fggfjgfhg
DTSTAMP:20260422T112952Z
DTSTART:20260526T192500Z
DTEND:20260527T120000Z
END:VEVENT
END:VCALENDAR
