BEGIN:VCALENDAR
VERSION:2.0
PRODID:-//Eventin//Event Calendar//EN
CALSCALE:GREGORIAN
METHOD:PUBLISH
BEGIN:VEVENT
UID:05000b0558930476f6a8d1bc0e8f6454@thekindercasa.com
SUMMARY:New Event
DESCRIPTION:sdfgasdgasadgasdg
LOCATION:fggfjgfhg
DTSTAMP:20260422T112725Z
DTSTART:20260519T192500Z
DTEND:20260520T120000Z
END:VEVENT
END:VCALENDAR
