BEGIN:VCALENDAR
VERSION:2.0
PRODID:-//Eventin//Event Calendar//EN
CALSCALE:GREGORIAN
METHOD:PUBLISH
BEGIN:VEVENT
UID:3ad2c8dea89c82399b743b568c6988d7@thekindercasa.com
SUMMARY:Making Spaghetti 🍝 from scratch
DESCRIPTION:We will learn where the flour come from\, how it works with dif
 ferent products\, learn about the ingredients of different sauces. You will
  eat your own delicious creation
LOCATION:Arnaz & Gregory way\, Beverly Hills\, 90211
DTSTAMP:20260422T112348Z
DTSTART:20260615T233000Z
DTEND:20260616T020000Z
END:VEVENT
END:VCALENDAR
