BEGIN:VCALENDAR
VERSION:2.0
PRODID:-//Eventin//Event Calendar//EN
CALSCALE:GREGORIAN
METHOD:PUBLISH
BEGIN:VEVENT
UID:41895a9389b2328232ef4cd8a82f4168@thekindercasa.com
SUMMARY:Title
DESCRIPTION:sdfasdagsagsdag
LOCATION:Location
DTSTAMP:20260422T113512Z
DTSTART:20260523T170000Z
DTEND:20260524T000000Z
END:VEVENT
END:VCALENDAR
