BEGIN:VCALENDAR
VERSION:2.0
PRODID:-//Eventin//Event Calendar//EN
CALSCALE:GREGORIAN
METHOD:PUBLISH
BEGIN:VEVENT
UID:c0e2cfe8b75bd56acd342753a4d85b4b@thekindercasa.com
SUMMARY:Title
DESCRIPTION:sdfasdagsagsdag
LOCATION:Location
DTSTAMP:20260422T113833Z
DTSTART:20260516T170000Z
DTEND:20260517T000000Z
END:VEVENT
END:VCALENDAR
