BEGIN:VCALENDAR
VERSION:2.0
PRODID:-//Eventin//Event Calendar//EN
CALSCALE:GREGORIAN
METHOD:PUBLISH
BEGIN:VEVENT
UID:0d837d763ea4eefc8ab88c989b8b4c23@thekindercasa.com
SUMMARY:Title
DESCRIPTION:sdfasdagsagsdag
LOCATION:Location
DTSTAMP:20260422T113534Z
DTSTART:20260509T170000Z
DTEND:20260510T000000Z
END:VEVENT
END:VCALENDAR
