BEGIN:VCALENDAR
VERSION:2.0
PRODID:-//Eventin//Event Calendar//EN
CALSCALE:GREGORIAN
METHOD:PUBLISH
BEGIN:VEVENT
UID:5695c45856d1aea94dfc5b7dddeb2bc7@thekindercasa.com
SUMMARY:Title
DESCRIPTION:sdfasdagsagsdag
LOCATION:Location
DTSTAMP:20260422T113722Z
DTSTART:20260502T170000Z
DTEND:20260503T000000Z
END:VEVENT
END:VCALENDAR
