BEGIN:VCALENDAR
VERSION:2.0
PRODID:-//Eventin//Event Calendar//EN
CALSCALE:GREGORIAN
METHOD:PUBLISH
BEGIN:VEVENT
UID:b5218c6dc39f536a47677735cc280a14@thekindercasa.com
SUMMARY:Title
DESCRIPTION:sdfasdagsagsdag
LOCATION:Location
DTSTAMP:20260422T113513Z
DTSTART:20260425T170000Z
DTEND:20260426T000000Z
END:VEVENT
END:VCALENDAR
