BEGIN:VCALENDAR
VERSION:2.0
PRODID:-//Eventin//Event Calendar//EN
CALSCALE:GREGORIAN
METHOD:PUBLISH
BEGIN:VEVENT
UID:2e9cededc3a873da40dc7874e626f2fe@thekindercasa.com
SUMMARY:New Event
DESCRIPTION:sdfgasdgasadgasdg
LOCATION:fggfjgfhg
DTSTAMP:20260422T112843Z
DTSTART:20260512T192500Z
DTEND:20260513T120000Z
END:VEVENT
END:VCALENDAR
