BEGIN:VCALENDAR
VERSION:2.0
PRODID:-//Eventin//Event Calendar//EN
CALSCALE:GREGORIAN
METHOD:PUBLISH
BEGIN:VEVENT
UID:3cab351db074b06c7bc99f2021d87692@thekindercasa.com
SUMMARY:New Event
DESCRIPTION:sdfgasdgasadgasdg
LOCATION:fggfjgfhg
DTSTAMP:20260422T113111Z
DTSTART:20260505T192500Z
DTEND:20260506T120000Z
END:VEVENT
END:VCALENDAR
