BEGIN:VCALENDAR
VERSION:2.0
PRODID:-//Eventin//Event Calendar//EN
CALSCALE:GREGORIAN
METHOD:PUBLISH
BEGIN:VEVENT
UID:9c4ac827817d5695227bbcab83bd2d0c@thekindercasa.com
SUMMARY:New Event
DESCRIPTION:sdfgasdgasadgasdg
LOCATION:fggfjgfhg
DTSTAMP:20260422T112811Z
DTSTART:20260427T192500Z
DTEND:20260428T120000Z
END:VEVENT
END:VCALENDAR
