BEGIN:VCALENDAR
VERSION:2.0
PRODID:-//Eventin//Event Calendar//EN
CALSCALE:GREGORIAN
METHOD:PUBLISH
BEGIN:VEVENT
UID:7cf8e826e16a197c007294b974189c08@thekindercasa.com
SUMMARY:fsdfasdf
DESCRIPTION:sdafasdafasda
LOCATION:sdfasf
DTSTAMP:20260422T112944Z
DTSTART:20260506T001000Z
DTEND:20260506T120000Z
END:VEVENT
END:VCALENDAR
