BEGIN:VCALENDAR
VERSION:2.0
PRODID:-//Eventin//Event Calendar//EN
CALSCALE:GREGORIAN
METHOD:PUBLISH
BEGIN:VEVENT
UID:7605e2576819a6039cbdae01495f51fc@thekindercasa.com
SUMMARY:fsdfasdf
DESCRIPTION:sdafasdafasda
LOCATION:sdfasf
DTSTAMP:20260422T112704Z
DTSTART:20260429T001000Z
DTEND:20260429T120000Z
END:VEVENT
END:VCALENDAR
