BEGIN:VCALENDAR
VERSION:2.0
PRODID:-//Eventin//Event Calendar//EN
CALSCALE:GREGORIAN
METHOD:PUBLISH
BEGIN:VEVENT
UID:5ce2c95013cd79a3048a86062911e00a@thekindercasa.com
SUMMARY:fsdfasdf
DESCRIPTION:sdafasdafasda
LOCATION:sdfasf
DTSTAMP:20260422T113055Z
DTSTART:20260423T001000Z
DTEND:20260423T120000Z
END:VEVENT
END:VCALENDAR
