BEGIN:VCALENDAR
VERSION:2.0
PRODID:-//Eventin//Event Calendar//EN
CALSCALE:GREGORIAN
METHOD:PUBLISH
BEGIN:VEVENT
UID:ec2be3d859b7f418d485a58438e6e8b7@thekindercasa.com
SUMMARY:Making Spaghetti 🍝 from scratch
DESCRIPTION:We will learn where the flour come from\, how it works with dif
 ferent products\, learn about the ingredients of different sauces. You will
  eat your own delicious creation
LOCATION:Arnaz & Gregory way\, Beverly Hills\, 90211
DTSTAMP:20260422T112347Z
DTSTART:20260831T233000Z
DTEND:20260901T023000Z
END:VEVENT
END:VCALENDAR
