BEGIN:VCALENDAR
VERSION:2.0
PRODID:-//Eventin//Event Calendar//EN
CALSCALE:GREGORIAN
METHOD:PUBLISH
BEGIN:VEVENT
UID:f16aef747d631e1c83167b04a15b5990@thekindercasa.com
SUMMARY:Pizza 4:30-7pm
DESCRIPTION:I am testing seeing how it works
LOCATION:Arnaz and Beverly Hills\, 90211
DTSTAMP:20260422T112349Z
DTSTART:20260525T233000Z
DTEND:20260526T020000Z
END:VEVENT
END:VCALENDAR
