BEGIN:VCALENDAR
VERSION:2.0
PRODID:-//Eventin//Event Calendar//EN
CALSCALE:GREGORIAN
METHOD:PUBLISH
BEGIN:VEVENT
UID:7ab54fb9e7c0917ef011ccdc2be5fdc8@thekindercasa.com
SUMMARY:Pizza 4:30-7pm
DESCRIPTION:I am testing seeing how it works
LOCATION:Arnaz and Beverly Hills\, 90211
DTSTAMP:20260422T112214Z
DTSTART:20260504T233000Z
DTEND:20260505T020000Z
END:VEVENT
END:VCALENDAR
