BEGIN:VCALENDAR
VERSION:2.0
PRODID:-//Eventin//Event Calendar//EN
CALSCALE:GREGORIAN
METHOD:PUBLISH
BEGIN:VEVENT
UID:749525fe5e56eec898402d7075a41c1e@thekindercasa.com
SUMMARY:Pizza 4:30-7pm
DESCRIPTION:I am testing seeing how it works
LOCATION:Arnaz and Beverly Hills\, 90211
DTSTAMP:20260422T112346Z
DTSTART:20260915T233000Z
DTEND:20260916T020000Z
END:VEVENT
END:VCALENDAR
