BEGIN:VCALENDAR
VERSION:2.0
PRODID:-//Eventin//Event Calendar//EN
CALSCALE:GREGORIAN
METHOD:PUBLISH
BEGIN:VEVENT
UID:770f69b4d631e01910a5e4b68bcaf0f7@thekindercasa.com
SUMMARY:Pizza 4:30-7pm
DESCRIPTION:I am testing seeing how it works
LOCATION:Arnaz and Beverly Hills\, 90211
DTSTAMP:20260422T112106Z
DTSTART:20260901T233000Z
DTEND:20260902T020000Z
END:VEVENT
END:VCALENDAR
