BEGIN:VCALENDAR
VERSION:2.0
PRODID:-//Eventin//Event Calendar//EN
CALSCALE:GREGORIAN
METHOD:PUBLISH
BEGIN:VEVENT
UID:556e8bfa4ca0a43153247fd8771e16f3@thekindercasa.com
SUMMARY:Pizza 4:30-7pm
DESCRIPTION:I am testing seeing how it works
LOCATION:Arnaz and Beverly Hills\, 90211
DTSTAMP:20260422T112345Z
DTSTART:20260804T233000Z
DTEND:20260805T020000Z
END:VEVENT
END:VCALENDAR
